BEGIN:VCALENDAR
VERSION:2.0
PRODID:icalendar-ruby
CALSCALE:GREGORIAN
METHOD:PUBLISH
BEGIN:VEVENT
DTSTAMP:20260423T073811Z
UID:20-336052@unitychurch248.tithelysetup5.com
DTSTART:20260501T130000Z
DTEND:20260501T150000Z
CLASS:PUBLIC
CREATED:20260422T122628
DESCRIPTION:
LAST-MODIFIED:20260422T122628
LOCATION:Unity Church of Peace
SUMMARY:Ground Clean Up
URL;VALUE=URI:https://unitychurchofpeace.com/events/ground-clean-up/2026-05
 -01
ATTACH;FILENAME=2026-Ground-Clean-up-March---June.png;FMTTYPE=image/png:htt
 ps://dq5pwpg1q8ru0.cloudfront.net/2026/02/11/18/53/48/903b47b9-6201-463e-a
 147-7dcde11bae13/2026-Ground-Clean-up-March---June.png
ATTACH;FILENAME=May-Grounds-Clean-up-slide.png;FMTTYPE=image/png:https://dq
 5pwpg1q8ru0.cloudfront.net/2026/04/22/16/26/28/2eec4fa0-a2dd-4662-ac75-b98
 eb0ea4a80/May-Grounds-Clean-up-slide.png
END:VEVENT
END:VCALENDAR
